BEGIN:VCALENDAR
VERSION:2.0
PRODID:-//portal riedenthal - ECPv6.15.20//NONSGML v1.0//EN
CALSCALE:GREGORIAN
METHOD:PUBLISH
X-ORIGINAL-URL:https://www.riedenthal.at
X-WR-CALDESC:Veranstaltungen für portal riedenthal
REFRESH-INTERVAL;VALUE=DURATION:PT1H
X-Robots-Tag:noindex
X-PUBLISHED-TTL:PT1H
BEGIN:VTIMEZONE
TZID:Europe/Vienna
BEGIN:DAYLIGHT
TZOFFSETFROM:+0100
TZOFFSETTO:+0200
TZNAME:CEST
DTSTART:20230326T010000
END:DAYLIGHT
BEGIN:STANDARD
TZOFFSETFROM:+0200
TZOFFSETTO:+0100
TZNAME:CET
DTSTART:20231029T010000
END:STANDARD
BEGIN:DAYLIGHT
TZOFFSETFROM:+0100
TZOFFSETTO:+0200
TZNAME:CEST
DTSTART:20240331T010000
END:DAYLIGHT
BEGIN:STANDARD
TZOFFSETFROM:+0200
TZOFFSETTO:+0100
TZNAME:CET
DTSTART:20241027T010000
END:STANDARD
BEGIN:DAYLIGHT
TZOFFSETFROM:+0100
TZOFFSETTO:+0200
TZNAME:CEST
DTSTART:20250330T010000
END:DAYLIGHT
BEGIN:STANDARD
TZOFFSETFROM:+0200
TZOFFSETTO:+0100
TZNAME:CET
DTSTART:20251026T010000
END:STANDARD
END:VTIMEZONE
BEGIN:VEVENT
DTSTART;TZID=Europe/Vienna:20240401T081500
DTEND;TZID=Europe/Vienna:20240401T110000
DTSTAMP:20260424T020247
CREATED:20240325T114555Z
LAST-MODIFIED:20240325T114557Z
UID:17356-1711959300-1711969200@www.riedenthal.at
SUMMARY:Ostermontag - Hl.Messe u. Pfarrcafe
DESCRIPTION:Messen-Ostern-20242320-2Herunterladen
URL:https://www.riedenthal.at/event/ostermontag-hl-messe-u-pfarrcafe/
END:VEVENT
BEGIN:VEVENT
DTSTART;TZID=Europe/Vienna:20240420T123000
DTEND;TZID=Europe/Vienna:20240420T130000
DTSTAMP:20260424T020247
CREATED:20240311T170441Z
LAST-MODIFIED:20240413T064728Z
UID:17098-1713616200-1713618000@www.riedenthal.at
SUMMARY:Tiersegnung
DESCRIPTION:TiersegnungHerunterladen
URL:https://www.riedenthal.at/event/tiersegnung/
END:VEVENT
BEGIN:VEVENT
DTSTART;TZID=Europe/Vienna:20240427T090000
DTEND;TZID=Europe/Vienna:20240427T120000
DTSTAMP:20260424T020247
CREATED:20240311T170527Z
LAST-MODIFIED:20240423T072542Z
UID:17100-1714208400-1714219200@www.riedenthal.at
SUMMARY:Gmoari-Gehn
DESCRIPTION:Lernen Sie die genauen Grenzen von Riedenthal kennen! \n\n\n\nTreffpunkt: vor dem Dorfhaus – Dieses Mal wird die Kronberger Seite abgegangen. \n\n\n\nAuch für Stärkung ist gesorgt: Im Anschluss lädt die Stadtgemeinde Wolkersdorf zu einer Jause ins Dorfhaus ein. \n\n\n\nWir freuen uns auf Ihr Kommen! \n\n\n\nWolfgang Watzek e.h. Ortsvorsteher \n\n\n\nDom inic Litzka e.h.      Bürgermeister
URL:https://www.riedenthal.at/event/gmoari-gehn-3/
END:VEVENT
END:VCALENDAR