BEGIN:VCALENDAR
VERSION:2.0
PRODID:-//portal riedenthal - ECPv6.15.20//NONSGML v1.0//EN
CALSCALE:GREGORIAN
METHOD:PUBLISH
X-ORIGINAL-URL:https://www.riedenthal.at
X-WR-CALDESC:Veranstaltungen für portal riedenthal
REFRESH-INTERVAL;VALUE=DURATION:PT1H
X-Robots-Tag:noindex
X-PUBLISHED-TTL:PT1H
BEGIN:VTIMEZONE
TZID:Europe/Vienna
BEGIN:DAYLIGHT
TZOFFSETFROM:+0100
TZOFFSETTO:+0200
TZNAME:CEST
DTSTART:20220327T010000
END:DAYLIGHT
BEGIN:STANDARD
TZOFFSETFROM:+0200
TZOFFSETTO:+0100
TZNAME:CET
DTSTART:20221030T010000
END:STANDARD
BEGIN:DAYLIGHT
TZOFFSETFROM:+0100
TZOFFSETTO:+0200
TZNAME:CEST
DTSTART:20230326T010000
END:DAYLIGHT
BEGIN:STANDARD
TZOFFSETFROM:+0200
TZOFFSETTO:+0100
TZNAME:CET
DTSTART:20231029T010000
END:STANDARD
BEGIN:DAYLIGHT
TZOFFSETFROM:+0100
TZOFFSETTO:+0200
TZNAME:CEST
DTSTART:20240331T010000
END:DAYLIGHT
BEGIN:STANDARD
TZOFFSETFROM:+0200
TZOFFSETTO:+0100
TZNAME:CET
DTSTART:20241027T010000
END:STANDARD
END:VTIMEZONE
BEGIN:VEVENT
DTSTART;TZID=Europe/Vienna:20231201T000000
DTEND;TZID=Europe/Vienna:20231224T235959
DTSTAMP:20260424T012102
CREATED:20231129T165312Z
LAST-MODIFIED:20231129T165315Z
UID:14650-1701388800-1703462399@www.riedenthal.at
SUMMARY:Adventfenster
DESCRIPTION:Adventfenster_2023[1259]Herunterladen
URL:https://www.riedenthal.at/event/adventfenster/
END:VEVENT
BEGIN:VEVENT
DTSTART;TZID=Europe/Vienna:20231201T000000
DTEND;TZID=Europe/Vienna:20231224T235959
DTSTAMP:20260424T012102
CREATED:20231130T160941Z
LAST-MODIFIED:20231130T161641Z
UID:14704-1701388800-1703462399@www.riedenthal.at
SUMMARY:Umgekehrter Adventkalender
DESCRIPTION:
URL:https://www.riedenthal.at/event/umgekehrter-adventkalender/
END:VEVENT
BEGIN:VEVENT
DTSTART;TZID=Europe/Vienna:20231206T183000
DTEND;TZID=Europe/Vienna:20231206T200000
DTSTAMP:20260424T012102
CREATED:20230915T143916Z
LAST-MODIFIED:20230915T143919Z
UID:13533-1701887400-1701892800@www.riedenthal.at
SUMMARY:Bewegungstraining nach der Franklin-Methode
DESCRIPTION:mit Sophia Mae Tabassi im Dorfhaus
URL:https://www.riedenthal.at/event/bewegungstraining-nach-der-franklin-methode-21/
END:VEVENT
BEGIN:VEVENT
DTSTART;TZID=Europe/Vienna:20231208T163000
DTEND;TZID=Europe/Vienna:20231208T183000
DTSTAMP:20260424T012102
CREATED:20231129T174140Z
LAST-MODIFIED:20231208T082531Z
UID:14659-1702053000-1702060200@www.riedenthal.at
SUMMARY:Adventeinstimmung - !Abgesagt!
DESCRIPTION:Aufgrund von Ausfällen muss die Veranstaltung leider abgesagt werden.
URL:https://www.riedenthal.at/event/adventeinstimmung/
END:VEVENT
BEGIN:VEVENT
DTSTART;TZID=Europe/Vienna:20231209T090000
DTEND;TZID=Europe/Vienna:20231209T130000
DTSTAMP:20260424T012102
CREATED:20231119T120924Z
LAST-MODIFIED:20231120T162148Z
UID:14437-1702112400-1702126800@www.riedenthal.at
SUMMARY:Christbaumverkauf und kleiner Handarbeitsmarkt vor dem Dorfhaus
DESCRIPTION:Auch heuer gibt es wieder Waldviertler Christbäume zu kaufen –
URL:https://www.riedenthal.at/event/christbaumverkauf-und-kleiner-handarbeitsmarkt/
END:VEVENT
BEGIN:VEVENT
DTSTART;TZID=Europe/Vienna:20231209T160000
DTEND;TZID=Europe/Vienna:20231209T220000
DTSTAMP:20260424T012102
CREATED:20231202T190042Z
LAST-MODIFIED:20231202T190045Z
UID:14763-1702137600-1702159200@www.riedenthal.at
SUMMARY:Jagapunsch
DESCRIPTION:Jagapunsch-2023Herunterladen
URL:https://www.riedenthal.at/event/jagapunsch/
END:VEVENT
BEGIN:VEVENT
DTSTART;TZID=Europe/Vienna:20231213T183000
DTEND;TZID=Europe/Vienna:20231213T200000
DTSTAMP:20260424T012102
CREATED:20230915T144025Z
LAST-MODIFIED:20230915T144028Z
UID:13535-1702492200-1702497600@www.riedenthal.at
SUMMARY:Bewegungstraining nach der Franklin-Methode
DESCRIPTION:mit Sophia Mae Tabassi im Dorfhaus
URL:https://www.riedenthal.at/event/bewegungstraining-nach-der-franklin-methode-22/
END:VEVENT
END:VCALENDAR