BEGIN:VCALENDAR
VERSION:2.0
PRODID:-//portal riedenthal - ECPv6.15.20//NONSGML v1.0//EN
CALSCALE:GREGORIAN
METHOD:PUBLISH
X-WR-CALNAME:portal riedenthal
X-ORIGINAL-URL:https://www.riedenthal.at
X-WR-CALDESC:Veranstaltungen für portal riedenthal
REFRESH-INTERVAL;VALUE=DURATION:PT1H
X-Robots-Tag:noindex
X-PUBLISHED-TTL:PT1H
BEGIN:VTIMEZONE
TZID:Europe/Vienna
BEGIN:DAYLIGHT
TZOFFSETFROM:+0100
TZOFFSETTO:+0200
TZNAME:CEST
DTSTART:20210328T010000
END:DAYLIGHT
BEGIN:STANDARD
TZOFFSETFROM:+0200
TZOFFSETTO:+0100
TZNAME:CET
DTSTART:20211031T010000
END:STANDARD
BEGIN:DAYLIGHT
TZOFFSETFROM:+0100
TZOFFSETTO:+0200
TZNAME:CEST
DTSTART:20220327T010000
END:DAYLIGHT
BEGIN:STANDARD
TZOFFSETFROM:+0200
TZOFFSETTO:+0100
TZNAME:CET
DTSTART:20221030T010000
END:STANDARD
BEGIN:DAYLIGHT
TZOFFSETFROM:+0100
TZOFFSETTO:+0200
TZNAME:CEST
DTSTART:20230326T010000
END:DAYLIGHT
BEGIN:STANDARD
TZOFFSETFROM:+0200
TZOFFSETTO:+0100
TZNAME:CET
DTSTART:20231029T010000
END:STANDARD
END:VTIMEZONE
BEGIN:VEVENT
DTSTART;TZID=Europe/Vienna:20221203T160000
DTEND;TZID=Europe/Vienna:20221203T230000
DTSTAMP:20260424T001008
CREATED:20220930T200708Z
LAST-MODIFIED:20221126T184513Z
UID:11228-1670083200-1670108400@www.riedenthal.at
SUMMARY:Punschstand FF-Riedenthal
DESCRIPTION:Die FF Riedenthal lädt zum Adventpunsch tratschen und plaudern bei Punsch\, Glühwein\,Kinderpunsch\, süßen und pikanten Köstlichkeiten. \n\n\n\nWir freuen uns auf Euer Kommen! \n\n\n\nDer Reinerlös dient dem Ankauf von Ausrüstungsgegenständen \n\n\n\nFF-Punschstand2022Herunterladen
URL:https://www.riedenthal.at/event/punschstand-ff-riedenthal/
LOCATION:Dorfhaus\, Hauptstraße 40\, Riedenthal\, Niederösterreich\, 2122\, Österreich
ORGANIZER;CN="FF Riedenthal":MAILTO:feuerwehr@riedenthal.at
END:VEVENT
BEGIN:VEVENT
DTSTART;TZID=Europe/Vienna:20221210T090000
DTEND;TZID=Europe/Vienna:20221210T140000
DTSTAMP:20260424T001008
CREATED:20220823T145054Z
LAST-MODIFIED:20221114T181652Z
UID:10814-1670662800-1670680800@www.riedenthal.at
SUMMARY:Christbaumverkauf
DESCRIPTION:Christbaumverkauf und kleiner Weihnachtsmarkt der Handarbeitsgruppe \n\n\n\nFür Getränke und Speisen ist gesorgt \n\n\n\nMöglichkeit zum Alpaka Spaziergang für die Kinder. Bitte um Voranmeldung bei Andreas Widhalm 0650/7407642 \n\n\n\nWir freuen uns auf Ihren BesuchDie Waldviertler Christbaumverkäufer und der Verschönerungsverein \n\n\n\nChristbaumverkauf_101222_002Herunterladen
URL:https://www.riedenthal.at/event/christbaumverkauf-2/
LOCATION:Dorfhaus\, Hauptstraße 40\, Riedenthal\, Niederösterreich\, 2122\, Österreich
END:VEVENT
END:VCALENDAR