BEGIN:VCALENDAR
VERSION:2.0
PRODID:-//portal riedenthal - ECPv6.15.20//NONSGML v1.0//EN
CALSCALE:GREGORIAN
METHOD:PUBLISH
X-ORIGINAL-URL:https://www.riedenthal.at
X-WR-CALDESC:Veranstaltungen für portal riedenthal
REFRESH-INTERVAL;VALUE=DURATION:PT1H
X-Robots-Tag:noindex
X-PUBLISHED-TTL:PT1H
BEGIN:VTIMEZONE
TZID:Europe/Vienna
BEGIN:DAYLIGHT
TZOFFSETFROM:+0100
TZOFFSETTO:+0200
TZNAME:CEST
DTSTART:20210328T010000
END:DAYLIGHT
BEGIN:STANDARD
TZOFFSETFROM:+0200
TZOFFSETTO:+0100
TZNAME:CET
DTSTART:20211031T010000
END:STANDARD
BEGIN:DAYLIGHT
TZOFFSETFROM:+0100
TZOFFSETTO:+0200
TZNAME:CEST
DTSTART:20220327T010000
END:DAYLIGHT
BEGIN:STANDARD
TZOFFSETFROM:+0200
TZOFFSETTO:+0100
TZNAME:CET
DTSTART:20221030T010000
END:STANDARD
BEGIN:DAYLIGHT
TZOFFSETFROM:+0100
TZOFFSETTO:+0200
TZNAME:CEST
DTSTART:20230326T010000
END:DAYLIGHT
BEGIN:STANDARD
TZOFFSETFROM:+0200
TZOFFSETTO:+0100
TZNAME:CET
DTSTART:20231029T010000
END:STANDARD
END:VTIMEZONE
BEGIN:VEVENT
DTSTART;TZID=Europe/Vienna:20221111T164500
DTEND;TZID=Europe/Vienna:20221111T164500
DTSTAMP:20260424T020400
CREATED:20220823T143600Z
LAST-MODIFIED:20221112T220903Z
UID:10809-1668185100-1668185100@www.riedenthal.at
SUMMARY:Laternenumzug
DESCRIPTION:Liebe Kinder\,liebe Riedenthalerinnen und Riedenthaler\, \n\n\n\nDer Kath. Arbeitskreis und der Verschönerungsverein laden Jung und Alt\, Groß und Klein herzlich ein zum Laternenumzug \n\n\n\nam Freitag\, 11. November 2022Treffpunkt: 16:45 Uhr bei der Kirche \n\n\n\nIn der Kirche werden wir bei einer kleinen Andacht über den tieferen Sinn des Martinfestes hören und anschließend machen wir gemeinsam einen Spaziergang durch Kirchengasse und Stadlgasse zum Dorfhaus – dort gibt’s für die Kinder Martini-Kipferl und für alle gibt es Punsch. \n\n\n\nAuf Deine/Ihre Teilnahme freuen sichKath. Arbeitskreis und Verschönerungsverein \n\n\n\nLaternenumzug_111122.docxHerunterladen
URL:https://www.riedenthal.at/event/laternenumzug-2/
LOCATION:Kirche\, Kirchengasse\, Kirche\, Riedenthal\, Niederösterreich\, 2122\, Österreich
END:VEVENT
BEGIN:VEVENT
DTSTART;TZID=Europe/Vienna:20221112T090000
DTEND;TZID=Europe/Vienna:20221112T170000
DTSTAMP:20260424T020400
CREATED:20220823T144843Z
LAST-MODIFIED:20221006T202211Z
UID:10812-1668243600-1668272400@www.riedenthal.at
SUMMARY:Leopoldi-Markt
DESCRIPTION:Wir präsentieren und verkaufen unsere genähten\, gestickten\, gehäkelten\, gestrickten\, gebastelten Handarbeiten.Angeboten werden Geschenkideen und Brauchbares für das ganze Jahr. \n\n\n\nMit dabei \n\n\n\nErika KrumpschmidAquarelleNora PerschkeBilder(in verschiedenen Techniken)Uli KammererMarmeladen\,Eingelegtes und Schnäpse\n\n\n\nKaffee und Kuchen steh’n bereit\,nehmen Sie sich Zeit –wir würden uns freuen\,Sie bei uns begrüßen zu dürfen. \n\n\n\nHandarbeitsgruppe Riedenthal \n\n\n\nBitte die geltenden 3-G Regeln beachten! \n\n\n\nLeopoldi-Markt-2022Herunterladen
URL:https://www.riedenthal.at/event/leopoldi-markt-2/
LOCATION:Dorfhaus\, Hauptstraße 40\, Riedenthal\, Niederösterreich\, 2122\, Österreich
END:VEVENT
BEGIN:VEVENT
DTSTART;TZID=Europe/Vienna:20221125T160000
DTEND;TZID=Europe/Vienna:20221125T180000
DTSTAMP:20260424T020400
CREATED:20221106T184625Z
LAST-MODIFIED:20221106T185027Z
UID:11490-1669392000-1669399200@www.riedenthal.at
SUMMARY:Weihnachtskekse backen
DESCRIPTION:Die Feuerwehrjugend Riedenthal lädt die Kinder ins Dorfhaus Riedenthal herzlich zu unserem Weihnachtsbacknachmittag ein. \n\n\n\nWir bitten um Voranmeldung bis 20. NovemberTelefonnummer 0664/2162797 oder unter der E-Mail: sabine.meissl@feuerwehr.gv.at \n\n\n\nEltern sind herzlich willkommen. Für Kaffee und Kuchen sorgt die FJ \n\n\n\nDer Reinerlös dieser Veranstaltung wird für die Feuerwehrjugend verwendet.
URL:https://www.riedenthal.at/event/weihnachtskekse-backen/
LOCATION:Dorfhaus\, Hauptstraße 40\, Riedenthal\, Niederösterreich\, 2122\, Österreich
ORGANIZER;CN="FF Riedenthal":MAILTO:feuerwehr@riedenthal.at
END:VEVENT
BEGIN:VEVENT
DTSTART;TZID=Europe/Vienna:20221127T160000
DTEND;TZID=Europe/Vienna:20221127T160000
DTSTAMP:20260424T020400
CREATED:20221002T191813Z
LAST-MODIFIED:20221006T202845Z
UID:11257-1669564800-1669564800@www.riedenthal.at
SUMMARY:Adventfeierstund
DESCRIPTION:Zur Einstimmung auf den Advent laden wir herzlich zu einem gemütlichen Beisammensein mit musikalischem Beitrag der Riedenthaler Kinder sowie Speis & Trank \n\n\n\nDer Verschönerungsverein freut sich auf Ihr/Euer Kommen \n\n\n\nAdventfeier_271122.docxHerunterladen
URL:https://www.riedenthal.at/event/adventfeierstund/
LOCATION:Dorfhaus\, Hauptstraße 40\, Riedenthal\, Niederösterreich\, 2122\, Österreich
END:VEVENT
END:VCALENDAR