BEGIN:VCALENDAR
VERSION:2.0
PRODID:-//portal riedenthal - ECPv6.15.20//NONSGML v1.0//EN
CALSCALE:GREGORIAN
METHOD:PUBLISH
X-ORIGINAL-URL:https://www.riedenthal.at
X-WR-CALDESC:Veranstaltungen für portal riedenthal
REFRESH-INTERVAL;VALUE=DURATION:PT1H
X-Robots-Tag:noindex
X-PUBLISHED-TTL:PT1H
BEGIN:VTIMEZONE
TZID:Europe/Vienna
BEGIN:DAYLIGHT
TZOFFSETFROM:+0100
TZOFFSETTO:+0200
TZNAME:CEST
DTSTART:20230326T010000
END:DAYLIGHT
BEGIN:STANDARD
TZOFFSETFROM:+0200
TZOFFSETTO:+0100
TZNAME:CET
DTSTART:20231029T010000
END:STANDARD
BEGIN:DAYLIGHT
TZOFFSETFROM:+0100
TZOFFSETTO:+0200
TZNAME:CEST
DTSTART:20240331T010000
END:DAYLIGHT
BEGIN:STANDARD
TZOFFSETFROM:+0200
TZOFFSETTO:+0100
TZNAME:CET
DTSTART:20241027T010000
END:STANDARD
BEGIN:DAYLIGHT
TZOFFSETFROM:+0100
TZOFFSETTO:+0200
TZNAME:CEST
DTSTART:20250330T010000
END:DAYLIGHT
BEGIN:STANDARD
TZOFFSETFROM:+0200
TZOFFSETTO:+0100
TZNAME:CET
DTSTART:20251026T010000
END:STANDARD
END:VTIMEZONE
BEGIN:VEVENT
DTSTART;TZID=Europe/Vienna:20241207T090000
DTEND;TZID=Europe/Vienna:20241207T130000
DTSTAMP:20260423T105511
CREATED:20241121T190400Z
LAST-MODIFIED:20241121T190413Z
UID:21738-1733562000-1733576400@www.riedenthal.at
SUMMARY:Christbaumverkauf
DESCRIPTION:Chistbaumverkauf 2024Herunterladen
URL:https://www.riedenthal.at/event/christbaumverkauf-3/
END:VEVENT
BEGIN:VEVENT
DTSTART;TZID=Europe/Vienna:20241207T160000
DTEND;TZID=Europe/Vienna:20241207T235959
DTSTAMP:20260423T105511
CREATED:20241121T190615Z
LAST-MODIFIED:20241121T190619Z
UID:21742-1733587200-1733615999@www.riedenthal.at
SUMMARY:Jagapunsch
DESCRIPTION:Einladung Jagapunsch Hiller 2024Herunterladen
URL:https://www.riedenthal.at/event/jagapunsch-2/
END:VEVENT
END:VCALENDAR