BEGIN:VCALENDAR
VERSION:2.0
PRODID:-//portal riedenthal - ECPv6.15.20//NONSGML v1.0//EN
CALSCALE:GREGORIAN
METHOD:PUBLISH
X-WR-CALNAME:portal riedenthal
X-ORIGINAL-URL:https://www.riedenthal.at
X-WR-CALDESC:Veranstaltungen für portal riedenthal
REFRESH-INTERVAL;VALUE=DURATION:PT1H
X-Robots-Tag:noindex
X-PUBLISHED-TTL:PT1H
BEGIN:VTIMEZONE
TZID:Europe/Vienna
BEGIN:DAYLIGHT
TZOFFSETFROM:+0100
TZOFFSETTO:+0200
TZNAME:CEST
DTSTART:20230326T010000
END:DAYLIGHT
BEGIN:STANDARD
TZOFFSETFROM:+0200
TZOFFSETTO:+0100
TZNAME:CET
DTSTART:20231029T010000
END:STANDARD
BEGIN:DAYLIGHT
TZOFFSETFROM:+0100
TZOFFSETTO:+0200
TZNAME:CEST
DTSTART:20240331T010000
END:DAYLIGHT
BEGIN:STANDARD
TZOFFSETFROM:+0200
TZOFFSETTO:+0100
TZNAME:CET
DTSTART:20241027T010000
END:STANDARD
BEGIN:DAYLIGHT
TZOFFSETFROM:+0100
TZOFFSETTO:+0200
TZNAME:CEST
DTSTART:20250330T010000
END:DAYLIGHT
BEGIN:STANDARD
TZOFFSETFROM:+0200
TZOFFSETTO:+0100
TZNAME:CET
DTSTART:20251026T010000
END:STANDARD
END:VTIMEZONE
BEGIN:VEVENT
DTSTART;TZID=Europe/Vienna:20240914T180000
DTEND;TZID=Europe/Vienna:20240914T220000
DTSTAMP:20260423T185059
CREATED:20240627T151421Z
LAST-MODIFIED:20240914T160756Z
UID:18777-1726336800-1726351200@www.riedenthal.at
SUMMARY:Bürgermeister-Sommertour abgesagt
DESCRIPTION:Bürgermeister Dominic Litzka tourt durch alle Katastralgemeinden\, um mit Ihnen ins Gespräch zu kommen! Schauen Sie vorbei und plaudern Sie mit ihm und seinem Team der Volkspartei Wolkersdorf. Für Snacks und Getränke ist reichlich gesorgt. Wir freuen uns auf Ihr Kommen!
URL:https://www.riedenthal.at/event/18777/
END:VEVENT
END:VCALENDAR