BEGIN:VCALENDAR
VERSION:2.0
PRODID:-//portal riedenthal - ECPv6.15.20//NONSGML v1.0//EN
CALSCALE:GREGORIAN
METHOD:PUBLISH
X-ORIGINAL-URL:https://www.riedenthal.at
X-WR-CALDESC:Veranstaltungen für portal riedenthal
REFRESH-INTERVAL;VALUE=DURATION:PT1H
X-Robots-Tag:noindex
X-PUBLISHED-TTL:PT1H
BEGIN:VTIMEZONE
TZID:Europe/Vienna
BEGIN:DAYLIGHT
TZOFFSETFROM:+0100
TZOFFSETTO:+0200
TZNAME:CEST
DTSTART:20220327T010000
END:DAYLIGHT
BEGIN:STANDARD
TZOFFSETFROM:+0200
TZOFFSETTO:+0100
TZNAME:CET
DTSTART:20221030T010000
END:STANDARD
BEGIN:DAYLIGHT
TZOFFSETFROM:+0100
TZOFFSETTO:+0200
TZNAME:CEST
DTSTART:20230326T010000
END:DAYLIGHT
BEGIN:STANDARD
TZOFFSETFROM:+0200
TZOFFSETTO:+0100
TZNAME:CET
DTSTART:20231029T010000
END:STANDARD
BEGIN:DAYLIGHT
TZOFFSETFROM:+0100
TZOFFSETTO:+0200
TZNAME:CEST
DTSTART:20240331T010000
END:DAYLIGHT
BEGIN:STANDARD
TZOFFSETFROM:+0200
TZOFFSETTO:+0100
TZNAME:CET
DTSTART:20241027T010000
END:STANDARD
END:VTIMEZONE
BEGIN:VEVENT
DTSTART;TZID=Europe/Vienna:20230705T183000
DTEND;TZID=Europe/Vienna:20230705T200000
DTSTAMP:20260423T170354
CREATED:20230617T094332Z
LAST-MODIFIED:20230617T110359Z
UID:12987-1688581800-1688587200@www.riedenthal.at
SUMMARY:Bewegungstraining nach der Franklin-Methode
DESCRIPTION:im Dorfhaus mit Sophia Mae Tabassi
URL:https://www.riedenthal.at/event/bewegungstraining-nach-der-franklin-methode-5/
END:VEVENT
END:VCALENDAR