BEGIN:VCALENDAR
VERSION:2.0
PRODID:-//portal riedenthal - ECPv6.15.20//NONSGML v1.0//EN
CALSCALE:GREGORIAN
METHOD:PUBLISH
X-ORIGINAL-URL:https://www.riedenthal.at
X-WR-CALDESC:Veranstaltungen für portal riedenthal
REFRESH-INTERVAL;VALUE=DURATION:PT1H
X-Robots-Tag:noindex
X-PUBLISHED-TTL:PT1H
BEGIN:VTIMEZONE
TZID:Europe/Vienna
BEGIN:DAYLIGHT
TZOFFSETFROM:+0100
TZOFFSETTO:+0200
TZNAME:CEST
DTSTART:20220327T010000
END:DAYLIGHT
BEGIN:STANDARD
TZOFFSETFROM:+0200
TZOFFSETTO:+0100
TZNAME:CET
DTSTART:20221030T010000
END:STANDARD
BEGIN:DAYLIGHT
TZOFFSETFROM:+0100
TZOFFSETTO:+0200
TZNAME:CEST
DTSTART:20230326T010000
END:DAYLIGHT
BEGIN:STANDARD
TZOFFSETFROM:+0200
TZOFFSETTO:+0100
TZNAME:CET
DTSTART:20231029T010000
END:STANDARD
BEGIN:DAYLIGHT
TZOFFSETFROM:+0100
TZOFFSETTO:+0200
TZNAME:CEST
DTSTART:20240331T010000
END:DAYLIGHT
BEGIN:STANDARD
TZOFFSETFROM:+0200
TZOFFSETTO:+0100
TZNAME:CET
DTSTART:20241027T010000
END:STANDARD
END:VTIMEZONE
BEGIN:VEVENT
DTSTART;TZID=Europe/Vienna:20230429T090000
DTEND;TZID=Europe/Vienna:20230429T130000
DTSTAMP:20260423T185356
CREATED:20230407T143653Z
LAST-MODIFIED:20230414T133025Z
UID:12661-1682758800-1682773200@www.riedenthal.at
SUMMARY:G’moari-Gehn - Ersatztermin
DESCRIPTION:Treffpunkt 9 Uhr vor dem Dorfhaus \n\n\n\nHeuer gehen wir die Seite von Ulrichskirchen \n\n\n\nIm Anschluss lädt die Stadtgemeinde zu Speis und Trank in das Dorfhaus ein. \n\n\n\nWir freuen uns auf zahlreiche Teilnehmer*innen! \n\n\n\nGmoari-gehn2023Herunterladen
URL:https://www.riedenthal.at/event/gmoari-gehn-2/
LOCATION:Dorfhaus\, Hauptstraße 40\, Riedenthal\, Niederösterreich\, 2122\, Österreich
END:VEVENT
END:VCALENDAR