BEGIN:VCALENDAR
VERSION:2.0
PRODID:-//portal riedenthal - ECPv6.15.20//NONSGML v1.0//EN
CALSCALE:GREGORIAN
METHOD:PUBLISH
X-WR-CALNAME:portal riedenthal
X-ORIGINAL-URL:https://www.riedenthal.at
X-WR-CALDESC:Veranstaltungen für portal riedenthal
REFRESH-INTERVAL;VALUE=DURATION:PT1H
X-Robots-Tag:noindex
X-PUBLISHED-TTL:PT1H
BEGIN:VTIMEZONE
TZID:Europe/Vienna
BEGIN:DAYLIGHT
TZOFFSETFROM:+0100
TZOFFSETTO:+0200
TZNAME:CEST
DTSTART:20220327T010000
END:DAYLIGHT
BEGIN:STANDARD
TZOFFSETFROM:+0200
TZOFFSETTO:+0100
TZNAME:CET
DTSTART:20221030T010000
END:STANDARD
BEGIN:DAYLIGHT
TZOFFSETFROM:+0100
TZOFFSETTO:+0200
TZNAME:CEST
DTSTART:20230326T010000
END:DAYLIGHT
BEGIN:STANDARD
TZOFFSETFROM:+0200
TZOFFSETTO:+0100
TZNAME:CET
DTSTART:20231029T010000
END:STANDARD
BEGIN:DAYLIGHT
TZOFFSETFROM:+0100
TZOFFSETTO:+0200
TZNAME:CEST
DTSTART:20240331T010000
END:DAYLIGHT
BEGIN:STANDARD
TZOFFSETFROM:+0200
TZOFFSETTO:+0100
TZNAME:CET
DTSTART:20241027T010000
END:STANDARD
END:VTIMEZONE
BEGIN:VEVENT
DTSTART;TZID=Europe/Vienna:20230318T090000
DTEND;TZID=Europe/Vienna:20230318T120000
DTSTAMP:20260423T203338
CREATED:20230311T155348Z
LAST-MODIFIED:20230312T172049Z
UID:12489-1679130000-1679140800@www.riedenthal.at
SUMMARY:Einladung zum Frühjahrsputz
DESCRIPTION:Treffpunkt: vor dem Dorfhaus (Handschuhe nicht vergessen!) \n\n\n\nLiebe Riedenthalerinnen und Riedenthaler! \n\n\n\nDamit wir unsere Ortschaft sauber präsentieren können\, wollen wir den achtlos weggeworfenen Müll einsammeln. \n\n\n\nUm Ihre zahlreiche Mithilfe bittetWolfgang WatzekOrtsvorsteher \n\n\n\nFruehjahrsputz_2023Herunterladen
URL:https://www.riedenthal.at/event/einladung-zum-fruehjahrsputz/
LOCATION:Dorfhaus\, Hauptstraße 40\, Riedenthal\, Niederösterreich\, 2122\, Österreich
END:VEVENT
END:VCALENDAR