BEGIN:VCALENDAR
VERSION:2.0
PRODID:-//portal riedenthal - ECPv6.15.20//NONSGML v1.0//EN
CALSCALE:GREGORIAN
METHOD:PUBLISH
X-WR-CALNAME:portal riedenthal
X-ORIGINAL-URL:https://www.riedenthal.at
X-WR-CALDESC:Veranstaltungen für portal riedenthal
REFRESH-INTERVAL;VALUE=DURATION:PT1H
X-Robots-Tag:noindex
X-PUBLISHED-TTL:PT1H
BEGIN:VTIMEZONE
TZID:Europe/Vienna
BEGIN:DAYLIGHT
TZOFFSETFROM:+0100
TZOFFSETTO:+0200
TZNAME:CEST
DTSTART:20220327T010000
END:DAYLIGHT
BEGIN:STANDARD
TZOFFSETFROM:+0200
TZOFFSETTO:+0100
TZNAME:CET
DTSTART:20221030T010000
END:STANDARD
BEGIN:DAYLIGHT
TZOFFSETFROM:+0100
TZOFFSETTO:+0200
TZNAME:CEST
DTSTART:20230326T010000
END:DAYLIGHT
BEGIN:STANDARD
TZOFFSETFROM:+0200
TZOFFSETTO:+0100
TZNAME:CET
DTSTART:20231029T010000
END:STANDARD
BEGIN:DAYLIGHT
TZOFFSETFROM:+0100
TZOFFSETTO:+0200
TZNAME:CEST
DTSTART:20240331T010000
END:DAYLIGHT
BEGIN:STANDARD
TZOFFSETFROM:+0200
TZOFFSETTO:+0100
TZNAME:CET
DTSTART:20241027T010000
END:STANDARD
END:VTIMEZONE
BEGIN:VEVENT
DTSTART;TZID=Europe/Vienna:20230128T200000
DTEND;TZID=Europe/Vienna:20230129T020000
DTSTAMP:20260424T000522
CREATED:20220930T200935Z
LAST-MODIFIED:20220930T200938Z
UID:11230-1674936000-1674957600@www.riedenthal.at
SUMMARY:Ball FF-Riedenthal
DESCRIPTION:Ball der FF-Riedenthal\, Einlass ab 19:30\, Beginn um 20:00
URL:https://www.riedenthal.at/event/ball-ff-riedenthal/
LOCATION:Dorfhaus\, Hauptstraße 40\, Riedenthal\, Niederösterreich\, 2122\, Österreich
ORGANIZER;CN="FF Riedenthal":MAILTO:feuerwehr@riedenthal.at
END:VEVENT
END:VCALENDAR